BEGIN:VCALENDAR
VERSION:2.0
PRODID:-//Fundación Canaria Museo Elder de la Ciencia y la Tecnología - ECPv6.15.20//NONSGML v1.0//EN
CALSCALE:GREGORIAN
METHOD:PUBLISH
X-WR-CALNAME:Fundación Canaria Museo Elder de la Ciencia y la Tecnología
X-ORIGINAL-URL:https://wptpv.museoelder.es
X-WR-CALDESC:Eventos para Fundación Canaria Museo Elder de la Ciencia y la Tecnología
REFRESH-INTERVAL;VALUE=DURATION:PT1H
X-Robots-Tag:noindex
X-PUBLISHED-TTL:PT1H
BEGIN:VTIMEZONE
TZID:UTC
BEGIN:STANDARD
TZOFFSETFROM:+0000
TZOFFSETTO:+0000
TZNAME:UTC
DTSTART:20250101T000000
END:STANDARD
END:VTIMEZONE
BEGIN:VEVENT
DTSTART;TZID=UTC:20260701T100000
DTEND;TZID=UTC:20260828T180000
DTSTAMP:20260425T153525
CREATED:20260412T072359Z
LAST-MODIFIED:20260412T072536Z
UID:134004-1782900000-1787940000@wptpv.museoelder.es
SUMMARY:Visitas grupales Campus Verano 2026
DESCRIPTION:VERANO MUSEO ELDER – Visitas para Campus Verano \nEste verano\, en el Museo Elder de la Ciencia y la Tecnología les proponemos una experiencia diferente para sus campamentos: aprender\, experimentar y divertirse en un entorno único. \nHemos diseñado una opción flexible y accesible\, ideal para grupos que buscan una actividad educativa de calidad sin complicaciones. \n¿Qué ofrecemos? \nUna visita libre de 120 minutos\, donde los grupos pueden recorrer el museo a su ritmo y participar en nuestra programación diaria: \n\nPlanetario\nCine 3D\nCiencia en vivo\nExposiciones interactivas y temporales\n\nCada visita se convierte en una experiencia dinámica\, adaptada a los intereses del grupo. \nOrganización sencilla \n\nGrupos de hasta 25 niños/as (desde 3 años)\nRecomendado: 1 monitor/a por cada 5 participantes\nMonitores/as gratis\nDe martes a viernes: a partir de las 10:00h\n\n Precio especial verano \n\nSolo 3 € por niño/a\n\n¿Por qué elegir el Museo Elder? \n\nEspacio seguro\, educativo y estimulante\nActividades que despiertan la curiosidad y el pensamiento científico\nFlexibilidad total para adaptarse a la dinámica de su campamento\n\nPlazas limitadas – imprescindible reserva previa \nmuseoelder@museoelder.es \nTel. 828 011 828 \nEstaremos encantados de ayudarles a organizar su visita y adaptar la experiencia a sus necesidades.
URL:https://wptpv.museoelder.es/evento/visitas-grupales-campus-verano-2026/
LOCATION:Museo Elder\, Parque Santa Catalina\, Las Palmas de Gran Canaria\, Las Palmas\, 35007\, España
CATEGORIES:Entradas
ATTACH;FMTTYPE=image/jpeg:https://wptpv.museoelder.es/wp-content/uploads/2026/04/Verano26.jpg
END:VEVENT
END:VCALENDAR