BEGIN:VCALENDAR
VERSION:2.0
PRODID:-//Fundación Canaria Museo Elder de la Ciencia y la Tecnología - ECPv6.15.20//NONSGML v1.0//EN
CALSCALE:GREGORIAN
METHOD:PUBLISH
X-WR-CALNAME:Fundación Canaria Museo Elder de la Ciencia y la Tecnología
X-ORIGINAL-URL:https://wptpv.museoelder.es
X-WR-CALDESC:Eventos para Fundación Canaria Museo Elder de la Ciencia y la Tecnología
REFRESH-INTERVAL;VALUE=DURATION:PT1H
X-Robots-Tag:noindex
X-PUBLISHED-TTL:PT1H
BEGIN:VTIMEZONE
TZID:UTC
BEGIN:STANDARD
TZOFFSETFROM:+0000
TZOFFSETTO:+0000
TZNAME:UTC
DTSTART:20250101T000000
END:STANDARD
END:VTIMEZONE
BEGIN:VEVENT
DTSTART;TZID=UTC:20260224T160000
DTEND;TZID=UTC:20260228T150000
DTSTAMP:20260421T082911
CREATED:20260219T172822Z
LAST-MODIFIED:20260219T172822Z
UID:133878-1771948800-1772290800@wptpv.museoelder.es
SUMMARY:SMART GREEN ISLAND MAKEATHON 2026: tecnología\, sostenibilidad e innovación
DESCRIPTION:SMART GREEN ISLAND MAKEATHON 2026: tecnología\, sostenibilidad e innovación en el Museo Elder\nDel 24 al 28 de febrero de 2026\, el Museo Elder de la Ciencia y la Tecnología acogerá en Las Palmas de Gran Canaria el SMART GREEN ISLAND INNOVATION FESTIVAL\, un gran encuentro internacional dedicado a la innovación\, la sostenibilidad y las tecnologías del futuro. \nDurante cinco días\, el museo se convertirá en un espacio vivo de creación y aprendizaje donde se reunirán alrededor de 750 participantes\, entre estudiantes universitarios de distintos países\, profesionales del sector tecnológico\, instituciones\, empresas\, investigadores y jóvenes estudiantes. \nEl evento está organizado por ITQ GmbH\, junto con Dr. Stetter ITQ S.L.U.\, y reúne tres grandes actividades interconectadas que se desarrollarán simultáneamente en el Museo Elder: \n\n\nSMART GREEN ISLAND MAKEATHON 2026 \n\n\nTalleres tecnológicos para escolares \n\n\nConferencia científica internacional EUROCAST \n\n\nEl Museo Elder se convierte así en un punto de encuentro único entre el patrimonio tecnológico\, la divulgación científica y el desarrollo de soluciones reales para el futuro. \nCuando: del 24 al 28/0272026 \nDonde: Museo Elder
URL:https://wptpv.museoelder.es/evento/smart-green-island-makeathon-2026-tecnologia-sostenibilidad-e-innovacion/
LOCATION:Museo Elder\, Parque Santa Catalina\, Las Palmas de Gran Canaria\, Las Palmas\, 35007\, España
CATEGORIES:Entradas
ATTACH;FMTTYPE=image/jpeg:https://wptpv.museoelder.es/wp-content/uploads/2026/02/Makeathon2026.jpg
END:VEVENT
END:VCALENDAR