BEGIN:VCALENDAR
VERSION:2.0
PRODID:-//Fundación Canaria Museo Elder de la Ciencia y la Tecnología - ECPv6.15.20//NONSGML v1.0//EN
CALSCALE:GREGORIAN
METHOD:PUBLISH
X-WR-CALNAME:Fundación Canaria Museo Elder de la Ciencia y la Tecnología
X-ORIGINAL-URL:https://wptpv.museoelder.es
X-WR-CALDESC:Eventos para Fundación Canaria Museo Elder de la Ciencia y la Tecnología
REFRESH-INTERVAL;VALUE=DURATION:PT1H
X-Robots-Tag:noindex
X-PUBLISHED-TTL:PT1H
BEGIN:VTIMEZONE
TZID:UTC
BEGIN:STANDARD
TZOFFSETFROM:+0000
TZOFFSETTO:+0000
TZNAME:UTC
DTSTART:20250101T000000
END:STANDARD
END:VTIMEZONE
BEGIN:VEVENT
DTSTART;TZID=UTC:20260410T190000
DTEND;TZID=UTC:20260410T200000
DTSTAMP:20260420T213920
CREATED:20260303T193639Z
LAST-MODIFIED:20260303T193850Z
UID:133899-1775847600-1775851200@wptpv.museoelder.es
SUMMARY:Nika\, El calderón tropical. Cortometraje
DESCRIPTION:“Nika\, el calderón tropical “ \nESPAÑA\, 2024 – 29 mins; Just Minsk SL & Felipe Ravina Olivares;  \n Un corto documental donde Felipe Ravina\, documentalista\, divulgador científico y graduado en Ciencias del Mar\, forja una conexión con un calderón tropical llamado Nika\, en la isla de Tenerife\, (Islas Canarias). Esa inusual conexión hacia el animal\, hace que su preocupación por el estado actual de la isla y su biodiversidad aumente. Es un grito al cielo por y para la protección\, conservación y defensa de los espacios naturales y su fauna de esta región ultraperiférica donde se encuentra la mayor población de calderones tropicales única en el mundo. \nLa pieza muestra la sobreexplotación a la que está sometida Tenerife y la manera nefasta en la que se ha gestionado la isla en las últimas décadas. Un crecimiento infinito\, que no solo está amenazando más que nunca a los espacios naturales y su biodiversidad\, sino también a la convivencia y el desarrollo local de l@s tinerfeñ@s. \nDirigido por Jose Hernández y Felipe Ravina Olivares\, este documental pretende impulsar un cambio hacia un desarrollo sostenible real\, con un futuro en el que convivamos con la naturaleza para seguir disfrutando de Tenerife y el resto de Canarias en su estado salvaje y natural. \nLa pieza ha sido galardonada con más de 26 selecciones internacionales y ha sido galardonado con la Barandilla de Oro del CimaSub o seleccionado en el International Ocean Film Tour\, dos certámenes de gran prestigio nacional e internacional en el mundo del cine documental marino. \nEste documental ha sido grabado bajo el permiso y la autorización del Ministerio para la Transición Ecológica y el Reto Demográfico del Gobierno de España. Estos trabajos se encuentran regulados bajo el real decreto 1727/2007\, de 21 de diciembre\, por el que se establecen medidas de protección de los cetáceos. Nadar con cetáceos está prohibido en España. \nCuando: 10/04/2026 \nHora: 19:00h \nLugar: Museo Elder \nVenta de entradas: pincha aquí \nTras la finalización de la proyección habrá un coloquio.
URL:https://wptpv.museoelder.es/evento/133899/
LOCATION:Museo Elder\, Parque Santa Catalina\, Las Palmas de Gran Canaria\, Las Palmas\, 35007\, España
CATEGORIES:Entradas
ATTACH;FMTTYPE=image/jpeg:https://wptpv.museoelder.es/wp-content/uploads/2026/03/Nika.jpg
END:VEVENT
END:VCALENDAR